BEGIN:VCALENDAR
VERSION:2.0
PRODID:-//jEvents 2.0 for Joomla//EN
CALSCALE:GREGORIAN
METHOD:PUBLISH
BEGIN:VEVENT
UID:793e0f84bb1d38f7f7055394b8ac927b
CATEGORIES:Kleinkaliber
CREATED:19700101T010000
SUMMARY:LD-Schießen und Laser
DESCRIPTION:Außer in den Schulferien\n
X-ALT-DESC;FMTTYPE=text/html:<p>Außer in den Schulferien</p>
DTSTAMP:20260420T233656
DTSTART:20250527T160000
DTEND:20250527T174500
SEQUENCE:0
RRULE:FREQ=WEEKLY;UNTIL=20250606T000000Z;INTERVAL=1;BYDAY=TU
TRANSP:OPAQUE
END:VEVENT
END:VCALENDAR