BEGIN:VCALENDAR
VERSION:2.0
PRODID:-//jEvents 2.0 for Joomla//EN
CALSCALE:GREGORIAN
METHOD:PUBLISH
BEGIN:VEVENT
UID:a28fc50044634580d8d5995783431d88
CATEGORIES:Vorstandssitzung
CREATED:20251201T195628
SUMMARY:Vorstandssitzung
DESCRIPTION:
DTSTAMP:20260419T194152
DTSTART:20261110T190000
SEQUENCE:0
TRANSP:OPAQUE
END:VEVENT
END:VCALENDAR