BEGIN:VCALENDAR
VERSION:2.0
PRODID:-//jEvents 2.0 for Joomla//EN
CALSCALE:GREGORIAN
METHOD:PUBLISH
BEGIN:VEVENT
UID:967458bababa481db9c7b0d22d20941c
CATEGORIES:Veranstaltung
CREATED:20250521T104022
SUMMARY:Öffentliches KK-Preisschießen
LOCATION:Schießanlage Sterkrader Str. 12 a\, 46539 Dinslaken
DESCRIPTION:
DTSTAMP:20260420T203219
DTSTART:20250607T090000
DTEND:20250607T120000
SEQUENCE:0
TRANSP:OPAQUE
END:VEVENT
END:VCALENDAR