BEGIN:VCALENDAR
VERSION:2.0
PRODID:-//jEvents 2.0 for Joomla//EN
CALSCALE:GREGORIAN
METHOD:PUBLISH
BEGIN:VEVENT
UID:171ae950c08d9329da728574ff53e86eRR288
CATEGORIES:Veranstaltung
CREATED:20250522T084744
SUMMARY:Festzug durch Barmingholten
DESCRIPTION:<p>mit Aufenthalt beim Königspaar Björn und Yvonne. Antreten der Schützen a
 m Festzelt / Vereinshaus</p>
DTSTAMP:20260420T215920
DTSTART:20250608T140000
DTEND:20250608T173000
SEQUENCE:0
TRANSP:OPAQUE
END:VEVENT
END:VCALENDAR