BEGIN:VCALENDAR
VERSION:2.0
PRODID:-//jEvents 2.0 for Joomla//EN
CALSCALE:GREGORIAN
METHOD:PUBLISH
BEGIN:VEVENT
UID:50d69a26ddd6bed4124652d16d962910
CATEGORIES:Kleinkaliber
CREATED:20250522T093127
SUMMARY:Sommer- und Damenpreisschießen
DESCRIPTION:
DTSTAMP:20260420T220103
DTSTART:20250628T120000
SEQUENCE:0
TRANSP:OPAQUE
END:VEVENT
END:VCALENDAR