BEGIN:VCALENDAR
VERSION:2.0
PRODID:-//jEvents 2.0 for Joomla//EN
CALSCALE:GREGORIAN
METHOD:PUBLISH
BEGIN:VEVENT
UID:4f4acd2c4c182b1df52012ab74b1a620
CATEGORIES:Veranstaltung
CREATED:20250522T150526
SUMMARY:Stammtisch für alle Mitglieder
DESCRIPTION:
DTSTAMP:20260421T165447
DTSTART:20251107T183000
SEQUENCE:0
TRANSP:OPAQUE
END:VEVENT
END:VCALENDAR