BEGIN:VCALENDAR
VERSION:2.0
PRODID:-//jEvents 2.0 for Joomla//EN
CALSCALE:GREGORIAN
METHOD:PUBLISH
BEGIN:VEVENT
UID:3c7396d8543e215f3b8353e906c9b6e5
CATEGORIES:Kleinkaliber
CREATED:20250523T112655
SUMMARY:Nach Absprache: KK-60 Schuss liegend
DESCRIPTION:
DTSTAMP:20260420T220615
DTSTART:20250530T160000
DTEND:20250530T180000
SEQUENCE:0
TRANSP:OPAQUE
END:VEVENT
END:VCALENDAR