BEGIN:VCALENDAR
VERSION:2.0
PRODID:-//jEvents 2.0 for Joomla//EN
CALSCALE:GREGORIAN
METHOD:PUBLISH
BEGIN:VEVENT
UID:d67c2fea69c51630e86ed5a1387bd83d
CATEGORIES:Kleinkaliber
CREATED:19700101T010000
SUMMARY:KK Sportpistole
DESCRIPTION:
DTSTAMP:20260420T151653
DTSTART:20250526T160000
DTEND:20250526T173000
SEQUENCE:0
RRULE:FREQ=WEEKLY;UNTIL=20250603T000000Z;INTERVAL=1;BYDAY=MO
TRANSP:OPAQUE
END:VEVENT
END:VCALENDAR