BEGIN:VCALENDAR
VERSION:2.0
PRODID:-//jEvents 2.0 for Joomla//EN
CALSCALE:GREGORIAN
METHOD:PUBLISH
BEGIN:VEVENT
UID:84a7daedcd74b8080c5add2af1898105
CATEGORIES:Veranstaltung
CREATED:20251201T191553
SUMMARY:Damenblattlschießen
DESCRIPTION:In Uniform beim BSV Oberlohberg\n
X-ALT-DESC;FMTTYPE=text/html:<p>In Uniform beim BSV Oberlohberg</p>
DTSTAMP:20260419T193218
DTSTART:20260124T123000
SEQUENCE:0
TRANSP:OPAQUE
END:VEVENT
END:VCALENDAR