BEGIN:VCALENDAR
VERSION:2.0
PRODID:-//jEvents 2.0 for Joomla//EN
CALSCALE:GREGORIAN
METHOD:PUBLISH
BEGIN:VEVENT
UID:4bce62628c4220651cfb8aca70cf67c1
CATEGORIES:Vorstandssitzung
CREATED:20251201T195254
SUMMARY:Vorstandssitzung
DESCRIPTION:
DTSTAMP:20260421T100505
DTSTART:20260714T180000
SEQUENCE:0
TRANSP:OPAQUE
END:VEVENT
END:VCALENDAR