BEGIN:VCALENDAR
VERSION:2.0
PRODID:-//jEvents 2.0 for Joomla//EN
CALSCALE:GREGORIAN
METHOD:PUBLISH
BEGIN:VEVENT
UID:9bb32a5039c32bc3ed6246ce1ed80e9f
CATEGORIES:Veranstaltung
CREATED:20250521T102948
SUMMARY:Bierfaßschiessen beim BSV Schmachtendorf
DESCRIPTION:
DTSTAMP:20260420T233942
DTSTART:20250529T090000
SEQUENCE:0
TRANSP:OPAQUE
END:VEVENT
END:VCALENDAR