BEGIN:VCALENDAR
VERSION:2.0
PRODID:-//jEvents 2.0 for Joomla//EN
CALSCALE:GREGORIAN
METHOD:PUBLISH
BEGIN:VEVENT
UID:ca119feaa31b9cd7878e9706cbc2d868
CATEGORIES:Veranstaltung
CREATED:20250522T144723
SUMMARY:Schützentag beim BSV Hiesfeld
LOCATION:Am Freibad 16\, 46539 Dinslaken
DESCRIPTION:<p>in Uniform</p>
DTSTAMP:20260421T130340
DTSTART:20250816T163000
SEQUENCE:0
TRANSP:OPAQUE
END:VEVENT
END:VCALENDAR